BEGIN:VCALENDAR
VERSION:2.0
PRODID:-//Alliance for Entrepreneurial Universities in Africa - ECPv6.15.13//NONSGML v1.0//EN
CALSCALE:GREGORIAN
METHOD:PUBLISH
X-ORIGINAL-URL:https://www.aeuafrica.org
X-WR-CALDESC:Events for Alliance for Entrepreneurial Universities in Africa
REFRESH-INTERVAL;VALUE=DURATION:PT1H
X-Robots-Tag:noindex
X-PUBLISHED-TTL:PT1H
BEGIN:VTIMEZONE
TZID:UTC
BEGIN:STANDARD
TZOFFSETFROM:+0000
TZOFFSETTO:+0000
TZNAME:UTC
DTSTART:20230101T000000
END:STANDARD
END:VTIMEZONE
BEGIN:VEVENT
DTSTART;VALUE=DATE:20241023
DTEND;VALUE=DATE:20241025
DTSTAMP:20260423T170726
CREATED:20241023T131346Z
LAST-MODIFIED:20241023T131346Z
UID:1794-1729641600-1729814399@www.aeuafrica.org
SUMMARY:3rd Forum of the Alliance of Entrepreneurial Universities in Africa
DESCRIPTION:The concept of the “entrepreneurial university” has evolved over the past four decades\, significantly impacting government-academia-private sector relations as engines for industrial and sustainable development. Historically\, universities have aimed to equip students with industry-relevant skills\, with land-grant universities in the U.S. being notable for their contributions to practical agriculture\, science\, and engineering. \nIn Africa\, universities have demonstrated their potential to drive economic and social progress through partnerships and entrepreneurial initiatives. Examples include the University of Zambia’s ventures like ZAMNET Communications and York Farms\, and the University of Nairobi’s Enterprises and Services (UNES). These institutions illustrate that African universities can support entrepreneurship and capitalize on their research outputs. \nGovernments play a crucial role in fostering an entrepreneurial environment. For instance\, Morocco’s Law 01-00 and South Africa’s Intellectual Property Rights Act have enabled universities to create incubators and commercialize innovations. Similarly\, Zimbabwe’s Education 5.0 framework emphasizes teaching\, research\, community service\, innovation\, and industrialization. \nStrong relationships with the business sector and community are essential for entrepreneurial universities. Collaborations with industry provide talent and innovative solutions\, while engagement with local communities ensures that university initiatives address local needs. \n\nAbout the Alliance\nThe Alliance of Entrepreneurial Universities in Africa was launched in 2022 at the Africa Regional Science\, Technology\, and Innovation Forum in Kigali\, Rwanda. Its main goal is to promote and nurture entrepreneurship and business development within and beyond university institutions. The Alliance has formal members from 15 African countries and informal members from additional nations\, collectively representing over 1.5 million students and 45\,000 lecturers. \nObjectives of the Alliance: \n\nAdvance university initiatives that promote innovation and entrepreneurship.\nSupport national and regional efforts to strengthen institutional arrangements for innovation and entrepreneurship.\nCreate environments conducive to generating income through innovative businesses.\nIntegrate entrepreneurial ecosystems within and around universities.\nShare knowledge\, resources\, and best practices.\nIdentify research areas with commercialization potential.\nLaunch initiatives that encourage excellence and competition in entrepreneurship.\nForm strategic partnerships for Research\, Development\, and Innovation (RDI).\n\n\nOverview of the Forum\nThe Third Forum builds on the experiences of the first two forums held in 2022 and 2023\, focusing on “Forging Reliable\, Sustainable\, and Long-Term Partnerships.” The Forum aims to create one million startups and generate $100 billion in revenues by fostering internal and external partnerships. \nObjectives of the Forum: \n\nIdentify the secrets behind successful long-term partnerships.\nHighlight strategic policy\, regulatory\, and administrative arrangements for partnership governance.\nDiffuse arrangements for seeding and sustaining broad-based partnerships.\nAdvance measures for boosting internal partnerships within universities.\nExplore ways for government to encourage academia-industry-community collaborations.\nExpand external engagements and sustainable partnerships.\n\nStructure of the Forum: The Forum will include: \n\nKeynote addresses by senior government officials\, business leaders\, and university managers.\nHigh-level panels for sharing national and institutional experiences.\nPolicy dialogues to generate consensus and inform stakeholders.\nShowcases of inventions\, innovations\, start-ups\, and ecosystem supporters.\nNetworking sessions on specific topics like innovation funding and intellectual property management.\n\nInnovation Challenges: Teams will work on solving community and entity-defined challenges\, supported by the Origin Research and Innovation Hub. These sessions will take place over 2-5 days.
URL:https://www.aeuafrica.org/event/3rd-forum-of-the-alliance-of-entrepreneurial-universities-in-africa/
LOCATION:Dedan Kimathi University of Technology\, Nyeri\, Nyeri\, Nyeri\, Kenya
CATEGORIES:Alliance,Collaboration,Conference,Innovation,Networking,Research and Development
ATTACH;FMTTYPE=image/png:https://www.aeuafrica.org/wp-content/uploads/2024/09/AEUA-Logo-Concept-1-4.png
END:VEVENT
BEGIN:VEVENT
DTSTART;VALUE=DATE:20241018
DTEND;VALUE=DATE:20241021
DTSTAMP:20260423T170726
CREATED:20241019T065332Z
LAST-MODIFIED:20241019T070028Z
UID:1786-1729209600-1729468799@www.aeuafrica.org
SUMMARY:ORIGIN FEST Hackathon  -  CO-INNOVATION FOR AFRICA'S FUTURE
DESCRIPTION:Introduction\nOrigin Research and Innovations Labs (Origin) is dedicated to rapidly transforming Africa by cultivating original and indigenous solutions. We aim to tap into the abundant human resources across Africa and the diaspora to address the continent’s complex challenges through collaborative innovation. A cardinal aspect of realizing this objective is drawing innovators to a problem-solving ecosystem like the OriginFest Hackathon\, dubbed the Origin Fest 2024: Season I\, with a special focus on AI. \nOriginFest is a dynamic co-innovation hackathon hosted by Origin Research and Innovation Labs. It unites bright innovators\, entrepreneurs\, and researchers to collaborate on sponsored challenges. OriginFest supports the agenda of the Origin Research and Innovation Lab initiative and the Alliance of Entrepreneurial Universities in Africa. \nOriginFest capitalizes on the success of existing innovation events in the East African region\, aiming to bridge the gap between challenges and practical solutions aligned with AI and other Technologies. By aligning with the prevailing innovation landscape and forming partnerships with global technology companies\, universities\, and entrepreneurship programs\, OriginFest seeks to amplify its impact and drive sustainable solutions for Africa’s pressing problems. \nThe four most impactful and innovative solutions based on the judges will be awarded and given a chance to pitch during the third forum for the Alliance of Entrepreneurial Universities in Africa\, with the possibility of further guidance to co-develop the solution with the challenge owners and Origin. \nObjectives\nThe primary goal of the Hackathon is to:\n\nHarness the innovative potential of artificial intelligence (AI) and frontier technologies focused on AI to address and solve pressing societal challenges.\nFacilitate collaborative problem-solving among Origin’s solvers.\nProvide mentorship\, coaching\, and expert guidance on innovation\, entrepreneurship\, and frontier technologies.\nIntroduce participants to Origin Research and Innovation Labs’ work areas and networks\nCreate opportunities for emerging innovators to connect with experienced mentors and industry leaders\n\nHackathon Themes\n\nHealth: Developing tools for public health improvement\, disease prediction\, telemedicine\, and personalized treatment plans.\nAgriculture: Creating smart solutions for crop monitoring\, predictive analysis of weather patterns\, post-harvest systems\, and sustainable farming practices.\nClimate Change: Building systems/tools for mitigating climate change risks\, reducing carbon footprint\, managing waste and for better water resources management and conservation.\nCommunity development and governance: Developing tools for receiving feedback and identifying challenges in serving communities; automating administrative tools and access to information on services.\n\nParticipants of Hackathon\nParticipants will include Researchers\, Engineering designers\, Innovators\, Software developers\, data scientists\, AI enthusiasts\, and students from various disciplines. The participants should be in teams of four to five members. The organizers will assign the participants registered without a team to a team. Teams will be formed to work on the challenges. The teams will be encouraged to include members with diverse backgrounds to foster inclusive solutions. \nFormat:\nThe Hackathon will be a 48-hour marathon during which teams will ideate\, conceptualize\, design\, and prototype their solutions/applications. Mentors and Coaches from various industry sectors will provide guidance and support throughout the event. \n  \nOutcomes\nThe expected outcomes include the following:\n–        Practical solutions that challenge owners can be implemented with the solvers. \n–        Practical AI and other technological applications that can be further developed and deployed to benefit society. \n–        Networking opportunities with professionals and peers in AI and frontier technologies. \n–        Awards for the most innovative and impactful solutions. \nSupporting Partners\nThe Hackathon invites collaborations with technology companies\, educational institutions\, and non-profit organizations specializing in innovation and social good. \nDate and Venue\nThe Hackathon will be held from 18th  to 20th October 2024 as a precursor event to the 3rd forum of the Alliance of Entrepreneurial Universities in Africa at the Dedan Kimathi University of Technology. It will be conducted in a hybrid format\, with the first day being hybrid (Physical and virtual) and the second and third days being physical. \nEvent Schedule\nBelow is the provisional order of events for the Hackathon \n  \n\n\n\nDAY\nACTIVITY\n\n\nDAY ONE: Friday 18th October 2024\nArrivals and Registration\n\n\nLunch\n\n\nHackathon commencement\n\n\nDAY TWO: Saturday 19th October 2024\nInnovation development\n\n\nInnovation Talk\n\n\nInnovation development\n\n\nInnovation Coaching\n\n\nDAY THREE: Sunday 20th October 2024\nInnovation finalization\n\n\nInnovation Talk\n\n\nInnovation finalization\n\n\nTeam presentations\n\n\nAward Ceremony\n\n\n\nConclusion\nOriginFest acts as a catalyst for co-innovation\, knowledge exchange\, and the development of a vibrant entrepreneurship and innovation ecosystem. The festival aims to advance Indigenous solutions that will impact Africa’s development by assembling diverse talents and providing a platform for collaborative problem-solving. \n  \nRegistration\nTo register\, click on this link: https://bit.ly/ORIGINFEST-Hacathon
URL:https://www.aeuafrica.org/event/origin-fest-hackathon-oct2024/
LOCATION:Dedan Kimathi University of Technology\, Nyeri\, Nyeri\, Nyeri\, Kenya
CATEGORIES:Funding,Innovation,Research,Research and Development
ATTACH;FMTTYPE=image/jpeg:https://www.aeuafrica.org/wp-content/uploads/2024/10/hackerthon.jpg
END:VEVENT
END:VCALENDAR